BEGIN:VCALENDAR
VERSION:2.0
PRODID:-//Aula de Juego - ECPv5.1.0//NONSGML v1.0//EN
CALSCALE:GREGORIAN
METHOD:PUBLISH
X-WR-CALNAME:Aula de Juego
X-ORIGINAL-URL:https://auladejuego.es
X-WR-CALDESC:Eventos para Aula de Juego
BEGIN:VTIMEZONE
TZID:Europe/Madrid
BEGIN:DAYLIGHT
TZOFFSETFROM:+0100
TZOFFSETTO:+0200
TZNAME:CEST
DTSTART:20190331T010000
END:DAYLIGHT
BEGIN:STANDARD
TZOFFSETFROM:+0200
TZOFFSETTO:+0100
TZNAME:CET
DTSTART:20191027T010000
END:STANDARD
END:VTIMEZONE
BEGIN:VEVENT
DTSTART;TZID=Europe/Madrid:20190331T110000
DTEND;TZID=Europe/Madrid:20190331T130000
DTSTAMP:20260416T065829
CREATED:20190216T213820Z
LAST-MODIFIED:20190325T165148Z
UID:2791-1554030000-1554037200@auladejuego.es
SUMMARY:Aprende y diviértete en familia jugando con Lego
DESCRIPTION:¡Regálate tiempo en familia!\n¿Estás cansada de tener que repetir las cosas 1000 veces para que te hagan caso?\n¿Sientes que en tu casa cada uno va a su bola?\n¿Te gustaría que la convivencia fuera más fácil y poder compartir un mismo lenguaje con tu familia?\n¡Ven a descubrir Lego Family!\nEsto es lo que te llevarás en este taller de 2 horas de duración: \n\nDescubrirás por qué la responsabilidad y la autonomía son competencias clave para que tus hijos tengan éxito en la vida y sean felices.\nAprenderás las dos maneras que existen para relacionarse en la vida ¿Víctima o responsable?\nCómo conseguir que tus hijos se responsabilicen de sus acciones y adquieran el hábito de hacer las cosas por sí mismos.\nLas claves para no tener que repetir 1000 veces las cosas a tus hijos ni estar encima de ellos para que hagan algo.\nDescubrirás cuál es tu rol dentro tu familia y cómo te ven los demás\nAyudarás a tus hijos a que aprendan a comunicar sus emociones y sus deseos de manera clara y asertiva\nDisfrutarás de tiempo en familia de calidad\, mientras aprendéis juntos y os divertís\n\n\n¿Sabías que las personas que saben manejar mejor sus emociones son más felices?\n«Los padres no tenemos todas las soluciones\, los hijos quieren participar de las decisiones y las familias más equilibradas son las que se escuchan y comunican de manera asertiva» \n\n\n\nEstas son las premisas de la metodología Lego Serious Play\, una forma de aprender que se centra en el desarrollo de habilidades sociales\, emocionales y cognitivas desde niños hasta adultos \n\n\n\n\n\n\n\n\n\n¿Quién no ha dado rienda suelta a su creatividad alguna vez con la infinidad de formas y colores de las piezas de Lego?\n¿Quién no ha regalado alguna vez una caja de Lego a su hijo y no ha podido resistir la tentación de sacar las instrucciones y empezar a construir?\n \nLego Family es mucho más que un montón de piezas de Lego en una caja con las que despertar nuestra imaginación. \nEs una metodología que facilita la reflexión\, la comunicación y la resolución de problemas en el seno de la familia. Los talleres Lego Family tienen que ver con las personas. \nEs un espacio donde tomarte tiempo para conocerte y conocer mejor a tu familia\, un espacio para escuchar\, compartir y diseñar vuestros sueños en coherencia con vuestros valores. \n\n\n\n\n\n\n\n\n\n\n\n\n\nEdades recomendadas: Niños de 5 a 18 años + padre y/o madre\n\nPrecio entrada: 15 €/persona taller 2 horas \nPara adquirir tus entradas\, selecciona un ticket por persona e indica las edades de los niños. \nImportante: Para la asistencia al taller es necesario que al menos uno de los hijos tenga 5 años o más. Si hay hermanos menores de 5 años pueden asistir al taller también. Los menores de 3 años no pagan entrada. \n
URL:https://auladejuego.es/evento/taller-lego-family/
LOCATION:Doodle\, Avenida Santuario de Valverde\, 2\, Madrid\, Madrid\, 28049\, España
ATTACH;FMTTYPE=image/jpeg:https://auladejuego.es/wp-content/uploads/2019/03/Imagen-Lego-Doodle.jpg
ORGANIZER;CN="Aula%20de%20Juego":MAILTO:hola@auladejuego.es
END:VEVENT
END:VCALENDAR