BEGIN:VCALENDAR
VERSION:2.0
PRODID:-//Aula de Juego - ECPv5.1.0//NONSGML v1.0//EN
CALSCALE:GREGORIAN
METHOD:PUBLISH
X-WR-CALNAME:Aula de Juego
X-ORIGINAL-URL:https://auladejuego.es
X-WR-CALDESC:Eventos para Aula de Juego
BEGIN:VTIMEZONE
TZID:Europe/Madrid
BEGIN:DAYLIGHT
TZOFFSETFROM:+0100
TZOFFSETTO:+0200
TZNAME:CEST
DTSTART:20190331T010000
END:DAYLIGHT
BEGIN:STANDARD
TZOFFSETFROM:+0200
TZOFFSETTO:+0100
TZNAME:CET
DTSTART:20191027T010000
END:STANDARD
END:VTIMEZONE
BEGIN:VEVENT
DTSTART;TZID=Europe/Madrid:20190530T173000
DTEND;TZID=Europe/Madrid:20190530T193000
DTSTAMP:20260416T031140
CREATED:20190425T153340Z
LAST-MODIFIED:20190529T092133Z
UID:3183-1559237400-1559244600@auladejuego.es
SUMMARY:Taller de Inteligencia Emocional y Lego en familia
DESCRIPTION:¿Cuántas veces al día te sacan tus hijos de tus casillas?\n¿Estás cansada de las peleas\, los gritos y los enfados?\n¿Te gustaría que tus hijos ganaran confianza en ellos mismos y se relacionaran con seguridad en el cole y en casa?\n¡Ven a descubrir Lego Family!\nEn este taller de 2 horas de duración: \n\nDescubrirás cuál es tu rol dentro tu familia y cómo te ven los demás\nConocerás las claves para mejorar la autoestima y la confianza de tus hijos\nAprenderéis sobre la importancia de la auto imagen y cómo mejorarla\nAyudarás a tus hijos a que aprendan a comunicar sus emociones y sus deseos de manera clara y asertiva\nEntenderás mejor cómo funciona el cerebro de tus hijos\nDisfrutarás de tiempo de calidad en familia\, mientras aprendéis juntos y os divertís\n\n\n¿Sabías que las personas que saben manejar mejor sus emociones tienen más éxito en la vida?\n“Los padres no tenemos todas las soluciones\, los hijos quieren participar de las decisiones y las familias más equilibradas son las que se escuchan y comunican de manera asertiva” \n\n\n\nEstas son las premisas de la metodología Lego Serious Play\, una forma de aprender que se centra en el desarrollo de habilidades sociales\, emocionales y cognitivas desde niños hasta adultos \n\n\n\n\n\n\n\n\n\n¿Quién no ha dado rienda suelta a su creatividad alguna vez con la infinidad de formas y colores de las piezas de Lego?\n¿Quién no ha regalado alguna vez una caja de Lego a su hijo y no ha podido resistir la tentación de sacar las instrucciones y empezar a construir?\n \nLego Family es mucho más que un montón de piezas de Lego en una caja con las que despertar nuestra imaginación. \nEs un espacio donde tomarte tiempo para conocerte y conocer mejor a tu familia\, un espacio para escuchar\, compartir y diseñar vuestros sueños en coherencia con vuestros valores. \n\n\n\n\n\n\n\n\n\n\n\n\nInvestigaciones recientes en Neuroeducación están demostrando que el cerebro necesita emocionarse para aprender y que a través del juego aprendemos más rápido y sin olvidar. \nEn Aula de Juego utilizamos el juego y laemoción como vehículos de aprendizaje para proporcionarte herramientas que te ayuden en la difícil tarea de la educación emocional de tus hijos. A través de una completa ruta de aprendizaje jugada y divertida\, estimulamos el cerebro y la creatividad de padres\, madres e hijos para ayudaros a fortalecer vuestros vínculos familiares\, alinear vuestros valores y que os sintáis cada día llenos de energía. \nTrabajamos en familia y mezclando edades porque el desarrollo cognitivo y conductual se acelera cuando los pequeños aprenden de los mayores y viceversa. \n¿Qué incluye el precio de la entrada?\n\nParticipación en el taller de 2 horas de duración para toda tu familia\nAcceso a grupo Exclusivo de WhatsApp y/o Facebook durante 1 mes\, donde os facilitaremos la teoría trabajada durante la sesión y donde\, además\, resolveremos todas las dudas que os vayan surgiendo.\nSesión on line grupal de hora y media de duración para ofreceros más trucos y herramientas y  resolver las dudas que os hayan ido surgiendo después del taller.\nContenido teórico en papel.\n\nVen a descubrir cómo todo esto y mucho más es posible gracias a la metodología Aula de Juego \n\nEdades: Niños de 5 a 12 años + padre y/o madre\n\nAdquiere tus entradas antes del 20 de mayo y benefíciate de 5€ de descuento\nEntradas limitadas\nPara adquirir tus entradas\, selecciona un ticket por persona e indica las edades de los niños. \nImportante: Para la asistencia al taller es necesario que al menos uno de los hijos tenga 5 años o más. Si hay hermanos menores de 5 años pueden asistir al taller también. Los menores de 3 años no pagan entrada. \n
URL:https://auladejuego.es/evento/taller-inteligencia-emocional-y-lego-en-familia/
LOCATION:Brick Bang «Bricks and Robotics Center»\, Calle Goya 118\, Madrid\, Madrid\, 28009\, España
ATTACH;FMTTYPE=image/jpeg:https://auladejuego.es/wp-content/uploads/2018/11/hiker-1984421_1280.jpg
ORGANIZER;CN="Aula%20de%20Juego":MAILTO:hola@auladejuego.es
END:VEVENT
END:VCALENDAR