BEGIN:VCALENDAR
VERSION:2.0
PRODID:-//Aula de Juego - ECPv5.1.0//NONSGML v1.0//EN
CALSCALE:GREGORIAN
METHOD:PUBLISH
X-WR-CALNAME:Aula de Juego
X-ORIGINAL-URL:https://auladejuego.es
X-WR-CALDESC:Eventos para Aula de Juego
BEGIN:VTIMEZONE
TZID:Europe/Madrid
BEGIN:DAYLIGHT
TZOFFSETFROM:+0100
TZOFFSETTO:+0200
TZNAME:CEST
DTSTART:20190331T010000
END:DAYLIGHT
BEGIN:STANDARD
TZOFFSETFROM:+0200
TZOFFSETTO:+0100
TZNAME:CET
DTSTART:20191027T010000
END:STANDARD
END:VTIMEZONE
BEGIN:VEVENT
DTSTART;TZID=Europe/Madrid:20190909T080000
DTEND;TZID=Europe/Madrid:20190909T170000
DTSTAMP:20260416T000801
CREATED:20190909T104512Z
LAST-MODIFIED:20190909T111939Z
UID:4211-1568016000-1568048400@auladejuego.es
SUMMARY:Taller becado La Academia de Ciudad Lineal
DESCRIPTION:¡Ven con tu familia al taller becado Lego Family! \n  \nAyuda a que tus hijos mejoren la autoestima y la responsabilidad pasando un buen rato juntos jugando con Lego \nen La Academia de Cuidad Lineal. \n
URL:https://auladejuego.es/evento/taller-familia-lego-family-autoestima-responsabilidad-lacademiadecuidadlineal/
LOCATION:La Academia de Ciudad Lineal\, C/ Vital Aza\, 29 post (Entrada Arroyo de La Elipa 12)\, Madrid\, Madrid\, 28017\, España
ATTACH;FMTTYPE=image/jpeg:https://auladejuego.es/wp-content/uploads/2019/09/lego-Brick-Bang.jpg
ORGANIZER;CN="Aula%20de%20Juego":MAILTO:hola@auladejuego.es
END:VEVENT
END:VCALENDAR