BEGIN:VCALENDAR
VERSION:2.0
PRODID:-//Aula de Juego - ECPv5.1.0//NONSGML v1.0//EN
CALSCALE:GREGORIAN
METHOD:PUBLISH
X-WR-CALNAME:Aula de Juego
X-ORIGINAL-URL:https://auladejuego.es
X-WR-CALDESC:Eventos para Aula de Juego
BEGIN:VTIMEZONE
TZID:Europe/Madrid
BEGIN:DAYLIGHT
TZOFFSETFROM:+0100
TZOFFSETTO:+0200
TZNAME:CEST
DTSTART:20180325T010000
END:DAYLIGHT
BEGIN:STANDARD
TZOFFSETFROM:+0200
TZOFFSETTO:+0100
TZNAME:CET
DTSTART:20181028T010000
END:STANDARD
END:VTIMEZONE
BEGIN:VEVENT
DTSTART;TZID=Europe/Madrid:20180920T173000
DTEND;TZID=Europe/Madrid:20180920T190000
DTSTAMP:20260416T000159
CREATED:20180906T143644Z
LAST-MODIFIED:20180910T103028Z
UID:1430-1537464600-1537470000@auladejuego.es
SUMMARY:¡Entradas agotadas!
DESCRIPTION:Taller Confianza y Autoestima para familias en Goya Smart Cowork \n¡Entradas agotadas! Lo sentimos\, no tenemos más plazas disponibles para este evento\nSigue pendiente de nuestra web para unirte a las próximas actividades de Aula de Juego\n  \n
URL:https://auladejuego.es/evento/taller-confianza-y-autoestima-para-familias-goya-smart-cowork/
LOCATION:GOYA SMART COWORK\, C/ Núñez de Balboa\, 35-5ª Oficina A1\, Madrid\, Madrid\, 28001\, España
ATTACH;FMTTYPE=image/png:https://auladejuego.es/wp-content/uploads/2018/09/Imagen-para-evento.png
ORGANIZER;CN="Aula%20de%20Juego":MAILTO:hola@auladejuego.es
END:VEVENT
END:VCALENDAR