BEGIN:VCALENDAR
VERSION:2.0
PRODID:-//Aula de Juego - ECPv5.1.0//NONSGML v1.0//EN
CALSCALE:GREGORIAN
METHOD:PUBLISH
X-WR-CALNAME:Aula de Juego
X-ORIGINAL-URL:https://auladejuego.es
X-WR-CALDESC:Eventos para Aula de Juego
BEGIN:VTIMEZONE
TZID:Europe/Madrid
BEGIN:DAYLIGHT
TZOFFSETFROM:+0100
TZOFFSETTO:+0200
TZNAME:CEST
DTSTART:20190331T010000
END:DAYLIGHT
BEGIN:STANDARD
TZOFFSETFROM:+0200
TZOFFSETTO:+0100
TZNAME:CET
DTSTART:20191027T010000
END:STANDARD
END:VTIMEZONE
BEGIN:VEVENT
DTSTART;TZID=Europe/Madrid:20190127T170000
DTEND;TZID=Europe/Madrid:20190127T190000
DTSTAMP:20260416T070152
CREATED:20190122T120340Z
LAST-MODIFIED:20190122T120810Z
UID:2616-1548608400-1548615600@auladejuego.es
SUMMARY:Taller Neurodesarrollo Emocional en familia en Todoaunarte
DESCRIPTION:¿Estás cansada de tener que repetir las cosas 1000 veces para que te hagan caso?\n¿Sientes que en tu casa cada uno va a su bola y os cuesta muchísimo poneros de acuerdo a la hora de hacer algo?\n¿Te gustaría que la convivencia fuera más fácil y poder compartir un mismo lenguaje con tu familia?\n  \nTe invitamos a descubrir el Laboratorio de Felicidad\n \nEn los talleres de El Laboratorio de Felicidad aprenderás las claves para aumentar el nivel de compromiso y unión de toda la familia\, mejorar la comunicación y estimular la proactividad. \nEn este taller nos centraremos en trabajar los límites en el hogar\, la comunicación asertiva y la resolución de conflictos. \nLo que vas a descubrir: \n\nLas herramientas para mejorar tu escucha activa y la de tus hijos para entender que es mejor escuchar para comprender y no para responder.\nPor qué la asertividad y una buena comunicación son competencias clave para poder resolver los conflictos en familia de manera sana y respetuosa con todos.\nLos ingredientes para una comunicación efectiva en familia\, en pareja y entre padres e hijos.\nCómo decir NO desde la responsabilidad\, la empatía y el respeto a uno mismo y a los demás.\nPor qué es importante poner atención en nuestros pensamientos y emociones. Aquello en lo que te enfocas se expande\, tanto si te gusta como si no.\n\nInvestigaciones recientes en Neuroeducación están demostrando que el cerebro necesita emocionarse para aprender y que a través del juego aprendemos más rápido y sin olvidar. \nEn Aula de Juego utilizamos el juego y la emoción como vehículos de aprendizaje para proporcionarte herramientas que te ayuden en la difícil tarea de la educación emocional de tus hijos. A través de una completa ruta de aprendizaje jugada y divertida\, estimulamos el cerebro y la creatividad de padres\, madres e hijos para ayudaros a fortalecer vuestros vínculos familiares\, alinear vuestros valores y que os sintáis cada día llenos de energía. \nTrabajamos en familia y mezclando edades porque el desarrollo cognitivo y conductual se acelera cuando los pequeños aprenden de los mayores y viceversa. \n¿Qué incluye el precio de la entrada?\n\nParticipación en el taller de 2 horas de duración para toda tu familia\nAcceso a grupo Exclusivo de WhatsApp y/o Facebook durante 1 mes\, donde os facilitaremos la teoría trabajada durante la sesión y contenido adicional y donde\, además\, resolveremos todas las dudas que os vayan surgiendo\nSesión on line grupal de hora y media de duración para resolver dudas\nContenido teórico en papel\n\nVen a descubrir cómo todo esto y mucho más es posible gracias a la metodología Aula de Juego \n\nEdades: Niños de 5 a 12 años + padre y/o madre\n\nImportante: si tienes peques mayores y menores de 5 años\, podéis asistir todos al taller. \nPara adquirir tu entrada\, selecciona un ticket por familia e indica tu nombre\, correo electrónico\, teléfono de contacto y edades de los niños. \n
URL:https://auladejuego.es/evento/neurodesarrollo-emocional-en-familia/
LOCATION:TODOAUNARTE\, Avenida de Buenos Aires\, 41\, Madrid\, 28018\, España
ATTACH;FMTTYPE=image/jpeg:https://auladejuego.es/wp-content/uploads/2019/01/family-3043408_1920.jpg
ORGANIZER;CN="Aula%20de%20Juego":MAILTO:hola@auladejuego.es
END:VEVENT
END:VCALENDAR