BEGIN:VCALENDAR
VERSION:2.0
PRODID:-//Aula de Juego - ECPv5.1.0//NONSGML v1.0//EN
CALSCALE:GREGORIAN
METHOD:PUBLISH
X-WR-CALNAME:Aula de Juego
X-ORIGINAL-URL:https://auladejuego.es
X-WR-CALDESC:Eventos para Aula de Juego
BEGIN:VTIMEZONE
TZID:Europe/Madrid
BEGIN:DAYLIGHT
TZOFFSETFROM:+0100
TZOFFSETTO:+0200
TZNAME:CEST
DTSTART:20180325T010000
END:DAYLIGHT
BEGIN:STANDARD
TZOFFSETFROM:+0200
TZOFFSETTO:+0100
TZNAME:CET
DTSTART:20181028T010000
END:STANDARD
END:VTIMEZONE
BEGIN:VEVENT
DTSTART;TZID=Europe/Madrid:20181021T103000
DTEND;TZID=Europe/Madrid:20181021T190000
DTSTAMP:20260416T070414
CREATED:20180925T121839Z
LAST-MODIFIED:20181018T090506Z
UID:1635-1540117800-1540148400@auladejuego.es
SUMMARY:II GRAN MARATHÓN AULA DE JUEGO ¡Evento gratuito!
DESCRIPTION:¡Ven con tu familia a disfrutar de un domingo divertido\, diferente y lleno de aprendizajes!\n¡Entradas agotadas para los siguientes talleres: «Super héroes en familia» y «Lego Family»!\n\n¡Últimas entradas para el Espectáculo de Magia y Emoción!\n  \nPodéis contactar con nosotros al correo hola@auladejuego.es para apuntaros a la lista de espera del taller Lego Family \nTe proponemos un espacio en el que descubrirás las claves para mejorar tus relaciones familiares sin agotar tu tiempo y tu energía \nLo que tenemos para ti: \n\nTalleres de Neurodesarrollo Emocional y Competencias donde aprenderás de manera divertida sobre las habilidades emocionales que pueden ayudarte a aumentar tu potencial y el de tus hijos\nTalleres Lego Family en los que te ayudaremos a diseñar las normas de tu casa y a alinear vuestros objetivos jugando con Lego\nMagia y Emociones para toda la familia\n\nNosotros ponemos el espacio y las actividades y tú sólo tienes que traer a tu familia y muchas ganas de pasar un rato jugando y aprendiendo cosas nuevas \n \n  \nAquí tienes el programa:\n\n10:30-12:00  ¡Plazas agotadas! Taller “Super héroes en familia: claves para aumentar la confianza y la autoestima”. Edades: 5 a 16 años\n12:00-12:30 Tiempo libre\n12:30-12:45 Breve presentación libro Aula de Juego\n12:45-14:00 ¡Últimas plazas! «Espectáculo de Magia y Emociones en familia». Aprende con tus hijos la importancia de los límites en la infancia. Edades: de 0 a 16 años\n14:00-15:30 Pausa para comer\n15:45-17:15 ¡Plazas agotadas! Taller  “Super héroes en familia: claves para aumentar la confianza y la autoestima”. Edades: de 5 a 12 años\n17:30-19:00 ¡Plazas agotadas! Taller Lego Family “Diseña jugando las reglas de tu casa” Edades: de 5 a 16 años\n19:00-19:15 Cierre resumen de la jornada: juego final y agradecimientos\n\n  \n \n¿Cuánto cuesta? \nEntrada gratuita a todos los talleres \nPuedes apuntarte a todos los que quieras indicando: \n\nnombre del taller/es\nnúmero de adultos y niños que queréis participar\nedades de los niños\n\n  \n  \n¡¡ Selecciona solo 1 Ticket por Familia y por Taller !! \n¡¡ Muchas Gracias !! \n
URL:https://auladejuego.es/evento/ii-gran-marathon-aula-de-juego-evento-gratuito/
LOCATION:ECOCENTRO\, Sala Ecosofía\, Calle Esquilache\, 2\, esquina Ramiro II\, Madrid\, España
ATTACH;FMTTYPE=image/png:https://auladejuego.es/wp-content/uploads/2018/09/2ª-GRAN-MARATHON-AULA-DE-JUEGO-2.png
ORGANIZER;CN="Aula%20de%20Juego":MAILTO:hola@auladejuego.es
END:VEVENT
END:VCALENDAR