BEGIN:VCALENDAR
VERSION:2.0
PRODID:-//Aula de Juego - ECPv5.1.0//NONSGML v1.0//EN
CALSCALE:GREGORIAN
METHOD:PUBLISH
X-WR-CALNAME:Aula de Juego
X-ORIGINAL-URL:https://auladejuego.es
X-WR-CALDESC:Eventos para Aula de Juego
BEGIN:VTIMEZONE
TZID:Europe/Madrid
BEGIN:DAYLIGHT
TZOFFSETFROM:+0100
TZOFFSETTO:+0200
TZNAME:CEST
DTSTART:20220327T010000
END:DAYLIGHT
BEGIN:STANDARD
TZOFFSETFROM:+0200
TZOFFSETTO:+0100
TZNAME:CET
DTSTART:20221030T010000
END:STANDARD
BEGIN:DAYLIGHT
TZOFFSETFROM:+0100
TZOFFSETTO:+0200
TZNAME:CEST
DTSTART:20230326T010000
END:DAYLIGHT
BEGIN:STANDARD
TZOFFSETFROM:+0200
TZOFFSETTO:+0100
TZNAME:CET
DTSTART:20231029T010000
END:STANDARD
BEGIN:DAYLIGHT
TZOFFSETFROM:+0100
TZOFFSETTO:+0200
TZNAME:CEST
DTSTART:20240331T010000
END:DAYLIGHT
BEGIN:STANDARD
TZOFFSETFROM:+0200
TZOFFSETTO:+0100
TZNAME:CET
DTSTART:20241027T010000
END:STANDARD
END:VTIMEZONE
BEGIN:VEVENT
DTSTART;TZID=Europe/Madrid:20220414T000000
DTEND;TZID=Europe/Madrid:20241231T000000
DTSTAMP:20260419T223510
CREATED:20220414T084913Z
LAST-MODIFIED:20230227T221412Z
UID:4477-1649894400-1735603200@auladejuego.es
SUMMARY:ebook Crecer Jugando
DESCRIPTION:
URL:https://auladejuego.es/evento/ebook-crecer-jugando-2/
END:VEVENT
END:VCALENDAR