BEGIN:VCALENDAR
VERSION:2.0
PRODID:-//Aula de Juego - ECPv5.1.0//NONSGML v1.0//EN
CALSCALE:GREGORIAN
METHOD:PUBLISH
X-WR-CALNAME:Aula de Juego
X-ORIGINAL-URL:https://auladejuego.es
X-WR-CALDESC:Eventos para Aula de Juego
BEGIN:VTIMEZONE
TZID:Europe/Madrid
BEGIN:DAYLIGHT
TZOFFSETFROM:+0100
TZOFFSETTO:+0200
TZNAME:CEST
DTSTART:20180325T010000
END:DAYLIGHT
BEGIN:STANDARD
TZOFFSETFROM:+0200
TZOFFSETTO:+0100
TZNAME:CET
DTSTART:20181028T010000
END:STANDARD
END:VTIMEZONE
BEGIN:VEVENT
DTSTART;TZID=Europe/Madrid:20180922T120000
DTEND;TZID=Europe/Madrid:20180922T140000
DTSTAMP:20260415T222618
CREATED:20180919T151857Z
LAST-MODIFIED:20180919T152041Z
UID:1603-1537617600-1537624800@auladejuego.es
SUMMARY:Aula de Juego estará en "Pasea Fuencarral"
DESCRIPTION:La fiesta de la movilidad sostenible del distrito de Fuencarral-El Pardo\nEste sábado 22 de septiembre estaremos acompañando a los vecinos del distrito de Fuencarral-El Pardo durante el cierre de la marcha en bicicleta con motivo de la Semana Europea de la Movilidad. \nOs esperamos al final del recorrido en la Asociación de Vecinos El Palomar de las Tablas para conoceros y daros a conocer nuestra oferta de actividades para familias. \nMás información sobre el evento en: \n‘Pasea Fuencarral’\, la fiesta de la movilidad sostenible del distrito \n \n
URL:https://auladejuego.es/evento/aula-de-juego-estara-en-pasea-fuencarral/
LOCATION:Asociación de vecinos Las Tablas\, C/ Capiscol 5\, Madrid\, Madrid\, España
ATTACH;FMTTYPE=image/jpeg:https://auladejuego.es/wp-content/uploads/2018/09/Foto-bicis-El-Palomar.jpg
ORGANIZER;CN="Aula%20de%20Juego":MAILTO:hola@auladejuego.es
END:VEVENT
END:VCALENDAR