BEGIN:VCALENDAR
VERSION:2.0
PRODID:-//Aula de Juego - ECPv5.1.0//NONSGML v1.0//EN
CALSCALE:GREGORIAN
METHOD:PUBLISH
X-WR-CALNAME:Aula de Juego
X-ORIGINAL-URL:https://auladejuego.es
X-WR-CALDESC:Eventos para Aula de Juego
BEGIN:VTIMEZONE
TZID:Europe/Madrid
BEGIN:DAYLIGHT
TZOFFSETFROM:+0100
TZOFFSETTO:+0200
TZNAME:CEST
DTSTART:20180325T010000
END:DAYLIGHT
BEGIN:STANDARD
TZOFFSETFROM:+0200
TZOFFSETTO:+0100
TZNAME:CET
DTSTART:20181028T010000
END:STANDARD
END:VTIMEZONE
BEGIN:VEVENT
DTSTART;TZID=Europe/Madrid:20181028T100000
DTEND;TZID=Europe/Madrid:20181028T143000
DTSTAMP:20260413T154853
CREATED:20181009T192419Z
LAST-MODIFIED:20181009T192419Z
UID:1729-1540720800-1540737000@auladejuego.es
SUMMARY:Aula de Juego en el I Congreso de Influencers Educativos
DESCRIPTION:¡Nos vemos el día 28 de octubre en el I Congreso de Influencers Educativos! \nPuedes consultar el programa del Congreso en el siguiente link: \nhttps://docs.wixstatic.com/ugd/bf89fc_1a588eba652d4d4793b175bd87e1ca33.pdf \nYa tenemos a 40 personas apuntadas a nuestro taller. \n¡Últimas plazas! ¿Te animas a jugar con nosotros? \n
URL:https://auladejuego.es/evento/aula-de-juego-en-el-i-congreso-de-influencers-educativos-2/
LOCATION:COLEGIO MIRAMADRID\, Avda/ Juan Pablo II s/n\, Paracuellos del Jarama\, Madrid\, 28860\, España
ATTACH;FMTTYPE=image/jpeg:https://auladejuego.es/wp-content/uploads/2018/10/miranos.jpg
ORGANIZER;CN="Aula%20de%20Juego":MAILTO:hola@auladejuego.es
END:VEVENT
END:VCALENDAR